BEGIN:VCALENDAR
VERSION:2.0
PRODID:-//Squarespace Inc/Squarespace 6//v6//EN
BEGIN:VEVENT
UID:52ae2245e4b0cfa18157de6a@squarespace.com
DTSTAMP:20170320T235920Z
DTSTART:20171123T220000Z
DTEND:20171126T120000Z
SUMMARY:AASCF NATIONALS!!!
GEO:-37.82422;144.955987
LOCATION:Melbourne Convention Centre\, 2 Clarendon St\, South Wharf\, VIC\, 
 3006\, Australia
END:VEVENT
END:VCALENDAR
