BEGIN:VCALENDAR
VERSION:2.0
PRODID:-//Squarespace Inc/Squarespace 6//v6//EN
BEGIN:VEVENT
UID:54890032e4b051e70e16e1c4@squarespace.com
DTSTAMP:20170321T001032Z
DTSTART:20171208T230000Z
DTEND:20171209T070000Z
SUMMARY:Mega Cheer 2018 Team Placements!!!!!
GEO:-28.110347;153.423643
LOCATION:Mega Cheer\, 26 Fremantle St\, Burleigh Heads\, QLD\, 4220\, Austr
 alia
END:VEVENT
END:VCALENDAR
