BEGIN:VCALENDAR
VERSION:2.0
PRODID:-//Squarespace Inc/Squarespace 6//v6//EN
BEGIN:VEVENT
UID:52ae1ea2e4b09df32bf36f64@squarespace.com
DTSTAMP:20170319T014243Z
DTSTART:20170615T230000Z
DTEND:20170618T120000Z
SUMMARY:Winterfest All Star Cheer & Dance Season Starter 2017
GEO:-27.344378;153.070076
LOCATION:Brisbane Entertainment Centre\, Melaleuca Dr\, Brisbane QLD 4034\, 
 Australia
END:VEVENT
END:VCALENDAR
