BEGIN:VCALENDAR
VERSION:2.0
PRODID:-//Squarespace Inc/Squarespace 6//v6//EN
BEGIN:VEVENT
UID:54fe86e5e4b013d2e7aa2652@squarespace.com
DTSTAMP:20170320T235756Z
DTSTART:20171119T050000Z
DTEND:20171119T080000Z
SUMMARY:Mega Nationals Showcase
GEO:-28.110334;153.423639
LOCATION:Mega Cheer\, 26 Fremantle Street\, Burleigh Heads\, QLD\, 4220\, A
 ustralia
END:VEVENT
END:VCALENDAR
