BEGIN:VCALENDAR
VERSION:2.0
PRODID:-//Squarespace Inc/Squarespace 6//v6//EN
BEGIN:VEVENT
UID:5517b9b8e4b01b711316eba4@squarespace.com
DTSTAMP:20170320T031318Z
DTSTART:20170424T184500Z
DTEND:20170425T100000Z
SUMMARY:Anzac Day (No Classes)
GEO:-28.136029;153.488742
LOCATION:28 Tomewin St\, Currumbin\, QLD\, 4223\, Australia
END:VEVENT
END:VCALENDAR
