BEGIN:VCALENDAR
VERSION:2.0
PRODID:-//Squarespace Inc/Squarespace 6//v6//EN
BEGIN:VEVENT
UID:5517c2e6e4b01178dd84faaf@squarespace.com
DTSTAMP:20170321T005142Z
DTSTART:20171212T230000Z
DTEND:20171213T030000Z
SUMMARY:December School Holiday Workshop!!!
GEO:-28.110334;153.423639
LOCATION:Mega Cheer\, 26 Fremantle Street\, Burleigh Heads\, QLD\, 4220\, A
 ustralia
END:VEVENT
END:VCALENDAR
