BEGIN:VCALENDAR
VERSION:2.0
PRODID:-//Squarespace Inc/Squarespace 6//v6//EN
BEGIN:VEVENT
UID:557e308fe4b0452ec69f9375@squarespace.com
DTSTAMP:20170320T025318Z
DTSTART:20170404T230000Z
DTEND:20170405T220000Z
SUMMARY:School Holiday Workshop & Sleepover!!!
GEO:-28.110347;153.423643
LOCATION:Mega Cheer\, 26 Fremantle St\, Burleigh Heads\, QLD\, 4220\, Austr
 alia
END:VEVENT
END:VCALENDAR
