BEGIN:VCALENDAR
VERSION:2.0
PRODID:-//Squarespace Inc/Squarespace 6//v6//EN
BEGIN:VEVENT
UID:5639d585e4b088af4c5815b0@squarespace.com
DTSTAMP:20170320T235157Z
DTSTART:20170926T230000Z
DTEND:20170927T220000Z
SUMMARY:September School Holiday Workshop & Sleep Over 
GEO:-28.110334;153.423639
LOCATION:Mega Cheer\, 26 Fremantle Street\, Burleigh Heads\, QLD\, 4220\, A
 ustralia
END:VEVENT
END:VCALENDAR
