BEGIN:VCALENDAR
VERSION:2.0
PRODID:-//Squarespace Inc/Squarespace 6//v6//EN
BEGIN:VEVENT
UID:5639d5f1e4b054c5055d092c@squarespace.com
DTSTAMP:20170321T000455Z
DTSTART:20171126T220000Z
DTEND:20171127T110000Z
SUMMARY:AASCF PINNACLE
GEO:-37.825271;144.95246
LOCATION:Melbourne Convention and Exhibition Centre\, 1 Convention Centre P
 lace\, South Wharf\, VIC\, 3006\, Australia
END:VEVENT
END:VCALENDAR
