BEGIN:VCALENDAR
VERSION:2.0
PRODID:-//Squarespace Inc/Squarespace 6//v6//EN
BEGIN:VEVENT
UID:5639d187e4b0c3bc9ae2d5c8@squarespace.com
DTSTAMP:20170320T035000Z
DTSTART:20170417T230000Z
DTEND:20170624T020000Z
SUMMARY:Term 2!!!
END:VEVENT
END:VCALENDAR
