BEGIN:VCALENDAR
VERSION:2.0
PRODID:-//Squarespace Inc/Squarespace 6//v6//EN
BEGIN:VEVENT
UID:5639d39ae4b032ee6d41a396@squarespace.com
DTSTAMP:20170320T030914Z
DTSTART:20170408T220000Z
DTEND:20170417T110000Z
SUMMARY:No Classes (Easter School Holidays)
GEO:-28.110334;153.423639
LOCATION:Mega Cheer\, 26 Fremantle Street\, Burleigh Heads\, QLD\, 4220\, A
 ustralia
END:VEVENT
END:VCALENDAR
