BEGIN:VCALENDAR
VERSION:2.0
PRODID:-//Squarespace Inc/Squarespace 6//v6//EN
BEGIN:VEVENT
UID:58d06b8ae6f2e1c8a6ac6264@squarespace.com
DTSTAMP:20170320T235603Z
DTSTART:20171006T230000Z
DTEND:20171007T110000Z
SUMMARY:CheerCon The Experience Competition
GEO:-27.673235;153.074219
LOCATION:Logan Metro Indoor Sports Centre\, 357 Browns Plains Road\, Crestm
 ead\, QLD\, 4132\, Australia
END:VEVENT
END:VCALENDAR
