BEGIN:VCALENDAR
VERSION:2.0
PRODID:-//Squarespace Inc/Squarespace 6//v6//EN
BEGIN:VEVENT
UID:58d06eb8d2b857a565d1f039@squarespace.com
DTSTAMP:20170321T001138Z
DTSTART:20171210T230000Z
DTEND:20171213T020000Z
SUMMARY:2018 Sign On Days!!!
GEO:-28.110334;153.423639
LOCATION:Mega Cheer\, 26 Fremantle Street\, Burleigh Heads\, QLD\, 4220\, A
 ustralia
END:VEVENT
END:VCALENDAR
