BEGIN:VCALENDAR
VERSION:2.0
PRODID:-//Squarespace Inc/Squarespace 6//v6//EN
BEGIN:VEVENT
UID:58cde235197aea52163bebbf@squarespace.com
DTSTAMP:20170320T024241Z
DTSTART:20170324T230000Z
DTEND:20170325T000000Z
SUMMARY:Special Abilities Team Open Day!
GEO:-28.110334;153.423639
LOCATION:Mega Cheer\, 26 Fremantle Street\, Burleigh Heads\, QLD\, 4220\, A
 ustralia
END:VEVENT
END:VCALENDAR
