BEGIN:VCALENDAR
VERSION:2.0
PRODID:-//Squarespace Inc/Squarespace 6//v6//EN
BEGIN:VEVENT
UID:58cf4a9a893fc0946594a757@squarespace.com
DTSTAMP:20170320T035408Z
DTSTART:20170514T120000Z
DTEND:20170514T130000Z
SUMMARY:Mother's Day Classic Performance
GEO:-28.026763;153.433554
LOCATION:Pratten Park\, Old Burleigh Road\, Broadbeach\, QLD\, 4218\, Austr
 alia
END:VEVENT
END:VCALENDAR
