BEGIN:VCALENDAR
VERSION:2.0
PRODID:-//Squarespace Inc/Squarespace 6//v6//EN
BEGIN:VEVENT
UID:58cf50c5bebafb2e39b67c3b@squarespace.com
DTSTAMP:20170320T034912Z
DTSTART:20170624T230000Z
DTEND:20170702T110000Z
SUMMARY:No Classes (Mid-Year School Holidays)
GEO:-28.110334;153.423639
LOCATION:Mega Cheer\, 26 Fremantle Street\, Burleigh Heads\, QLD\, 4220\, A
 ustralia
END:VEVENT
END:VCALENDAR
