BEGIN:VCALENDAR
VERSION:2.0
PRODID:-//Squarespace Inc/Squarespace 6//v6//EN
BEGIN:VEVENT
UID:5639d1b9e4b0c2a50bec6273@squarespace.com
DTSTAMP:20170321T001205Z
DTSTART:20170925T100000Z
DTEND:20171208T110000Z
SUMMARY:Term 4!!!!
GEO:-28.110334;153.423639
LOCATION:Mega Cheer\, 26 Fremantle Street\, Burleigh Heads\, QLD\, 4220\, A
 ustralia
END:VEVENT
END:VCALENDAR
