BEGIN:VCALENDAR
VERSION:2.0
PRODID:-//Squarespace Inc/Squarespace 6//v6//EN
BEGIN:VEVENT
UID:52ae20ace4b04b55eeda5898@squarespace.com
DTSTAMP:20170320T034659Z
DTSTART:20170803T230000Z
DTEND:20170806T070000Z
SUMMARY:AASCF All Star Battle: Cheer Edition 2017
GEO:-28.018481;153.429278
LOCATION:Gold Coast Convention Centre\, 2684-2690 Gold Coast Hwy\, Broadbea
 ch QLD 4218\, Australia
END:VEVENT
END:VCALENDAR
