BEGIN:VCALENDAR
VERSION:2.0
PRODID:-//Squarespace Inc/Squarespace 6//v6//EN
BEGIN:VEVENT
UID:5517b6c9e4b05ec98fe1a9e4@squarespace.com
DTSTAMP:20170320T035546Z
DTSTART:20170704T230000Z
DTEND:20170705T220000Z
SUMMARY:Mega Workshop & Sleep Over
GEO:-28.110347;153.423643
LOCATION:Mega Cheer\, 26 Fremantle St\, Burleigh Heads\, QLD\, 4220\, Austr
 alia
END:VEVENT
END:VCALENDAR
