BEGIN:VCALENDAR
VERSION:2.0
PRODID:-//Squarespace Inc/Squarespace 6//v6//EN
BEGIN:VEVENT
UID:5517bd34e4b0fd1c92d9647f@squarespace.com
DTSTAMP:20170320T234624Z
DTSTART:20170916T230000Z
DTEND:20170924T000000Z
SUMMARY:September School Holidays (No Classes)
GEO:-28.110347;153.423643
LOCATION:Mega Cheer\, 26 Fremantle St\, Burleigh Heads\, QLD\, 4220\, Austr
 alia
END:VEVENT
END:VCALENDAR
