BEGIN:VCALENDAR
VERSION:2.0
PRODID:-//Squarespace Inc/Squarespace 6//v6//EN
BEGIN:VEVENT
UID:52ae212fe4b04dd8c25caa62@squarespace.com
DTSTAMP:20170320T234204Z
DTSTART:20170907T220000Z
DTEND:20170910T070000Z
SUMMARY:AASCF States
GEO:-28.0335;153.431078
LOCATION:Gold Coast Convention Centre\, 2684-2690 Gold Coast Highway\, Broa
 dbeach QLD 4218\, Australia
END:VEVENT
END:VCALENDAR
