BEGIN:VCALENDAR
VERSION:2.0
PRODID:-//Squarespace Inc/Squarespace 6//v6//EN
BEGIN:VEVENT
UID:5639d19fe4b01039161076cf@squarespace.com
DTSTAMP:20170320T035149Z
DTSTART:20170702T220000Z
DTEND:20170916T110000Z
SUMMARY:Term 3!!!
GEO:-28.110334;153.423639
LOCATION:Mega Cheer\, 26 Fremantle Street\, Burleigh Heads\, QLD\, 4220\, A
 ustralia
END:VEVENT
END:VCALENDAR
