BEGIN:VCALENDAR
VERSION:2.0
PRODID:-//Squarespace Inc/Squarespace 6//v6//EN
BEGIN:VEVENT
UID:5808771c1b631b83fe937675@squarespace.com
DTSTAMP:20170319T014031Z
DTSTART:20170611T043000Z
DTEND:20170611T063000Z
SUMMARY:Mega Mid Year Showcase
GEO:-28.110275;153.423688
LOCATION:Mega Cheer\, 26 Fremantle Street\, Burleigh Heads\, QLD\, 4220\, A
 ustralia
END:VEVENT
END:VCALENDAR
